BEGIN:VCALENDAR
VERSION:2.0
PRODID:-//Wijkvereniging Velletri - ECPv6.15.20//NONSGML v1.0//EN
CALSCALE:GREGORIAN
METHOD:PUBLISH
X-WR-CALNAME:Wijkvereniging Velletri
X-ORIGINAL-URL:https://www.wijkverenigingvelletri.nl
X-WR-CALDESC:Evenementen voor Wijkvereniging Velletri
REFRESH-INTERVAL;VALUE=DURATION:PT1H
X-Robots-Tag:noindex
X-PUBLISHED-TTL:PT1H
BEGIN:VTIMEZONE
TZID:Europe/Amsterdam
BEGIN:DAYLIGHT
TZOFFSETFROM:+0100
TZOFFSETTO:+0200
TZNAME:CEST
DTSTART:20250330T010000
END:DAYLIGHT
BEGIN:STANDARD
TZOFFSETFROM:+0200
TZOFFSETTO:+0100
TZNAME:CET
DTSTART:20251026T010000
END:STANDARD
BEGIN:DAYLIGHT
TZOFFSETFROM:+0100
TZOFFSETTO:+0200
TZNAME:CEST
DTSTART:20260329T010000
END:DAYLIGHT
BEGIN:STANDARD
TZOFFSETFROM:+0200
TZOFFSETTO:+0100
TZNAME:CET
DTSTART:20261025T010000
END:STANDARD
BEGIN:DAYLIGHT
TZOFFSETFROM:+0100
TZOFFSETTO:+0200
TZNAME:CEST
DTSTART:20270328T010000
END:DAYLIGHT
BEGIN:STANDARD
TZOFFSETFROM:+0200
TZOFFSETTO:+0100
TZNAME:CET
DTSTART:20271031T010000
END:STANDARD
END:VTIMEZONE
BEGIN:VEVENT
DTSTART;TZID=Europe/Amsterdam:20260421T180000
DTEND;TZID=Europe/Amsterdam:20260421T210000
DTSTAMP:20260421T095809
CREATED:20251223T125157Z
LAST-MODIFIED:20251223T125157Z
UID:2748-1776794400-1776805200@www.wijkverenigingvelletri.nl
SUMMARY:Oud papier
DESCRIPTION:Oud papier wordt weer opgehaald\, zie deze pagina voor meer informatie.
URL:https://www.wijkverenigingvelletri.nl/activiteit/oud-papier-2026-04-21/
LOCATION:Wijk Velletri\, Velletri\, Oudenbosch\, Nederland
CATEGORIES:Oud papier
ATTACH;FMTTYPE=image/jpeg:https://www.wijkverenigingvelletri.nl/wp-content/uploads/2020/12/OudPapier.jpg
END:VEVENT
END:VCALENDAR